BEGIN:VCALENDAR
VERSION:2.0
PRODID:-//National Critical Care and Trauma Response Centre - ECPv6.15.20//NONSGML v1.0//EN
CALSCALE:GREGORIAN
METHOD:PUBLISH
X-WR-CALNAME:National Critical Care and Trauma Response Centre
X-ORIGINAL-URL:https://nationaltraumacentre.gov.au
X-WR-CALDESC:Events for National Critical Care and Trauma Response Centre
REFRESH-INTERVAL;VALUE=DURATION:PT1H
X-Robots-Tag:noindex
X-PUBLISHED-TTL:PT1H
BEGIN:VTIMEZONE
TZID:Australia/Darwin
BEGIN:STANDARD
TZOFFSETFROM:+0930
TZOFFSETTO:+0930
TZNAME:ACST
DTSTART:20210101T000000
END:STANDARD
END:VTIMEZONE
BEGIN:VEVENT
DTSTART;TZID=Australia/Darwin:20221201T080000
DTEND;TZID=Australia/Darwin:20221202T170000
DTSTAMP:20260421T182104
CREATED:20211213T003810Z
LAST-MODIFIED:20221027T041319Z
UID:10000055-1669881600-1670000400@nationaltraumacentre.gov.au
SUMMARY:ARC Advanced Life Support (ALS) Level 2
DESCRIPTION:Registrations have closed. \n\n\n\nRegistration closes: 3 Oct 22\n\n\n\nNumber of participants: Min 12 / Max 18 \n\n\n\n\n\n\n\nThis two day\, Australian Resuscitation Council (ARC) accredited course\, aims to teach theory & practical skills to effectively manage cardiopulmonary arrests\, peri-assist situations & special circumstances\, whilst following the latest ARC guidelines. \n\n\n\n\n\n\n\nCourse content includes: \n\n\n\nRecognition\, assessment & management of life threatening arrhythmiasDefibrillationBasic & advanced airway management including Laryngeal Mask Airway (LMA) insertionLegal & ethical issues in resuscitation\n\n\n\n\n\n\n\nPre-requisite: \n\n\n\nCurrent Basic Life Support competent (evidence to be provided). \n\n\n\nOn succssful completion\, the participant receives a certificate valid for 4 years however it is an ARC recommendation that skills are updated at least annually. \n\n\n\n\n\n\n\nSuitable Participants: \n\n\n\nHealth professionals working within emergency departments\, intensive care\, high dependency\, coronary care\, operating theatres and retrieval\, and is required to lead a resuscitation team. Appropriate participants include Doctors\, Intensive Care Paramedics and Nurses. \n\n\n\n\n\n\n\nCourse Cost: \n\n\n\nNorthern Territory Government staff members: $500 \n\n\n\nnon Northern Territory Government staff: $800 \n\n\n\n[prices and course availability are subject to change]
URL:https://nationaltraumacentre.gov.au/calendar/arc-advanced-life-support-level-2-3/
LOCATION:NCCTRC Training Facility – RDH\, 8th floor\, 105 Rocklands Dr\, Tiwi\, NT\, 0810\, Australia
CATEGORIES:Resuscitation
ATTACH;FMTTYPE=image/jpeg:https://nationaltraumacentre.gov.au/wp-content/uploads/2021/12/NCCTRC_AUSMAT_02-scaled-e1639377107676.jpeg
ORGANIZER;CN="NCCTRC Education":MAILTO:education.ncctrc@nt.gov.au
END:VEVENT
BEGIN:VEVENT
DTSTART;TZID=Australia/Darwin:20221110T080000
DTEND;TZID=Australia/Darwin:20221110T170000
DTSTAMP:20260421T182104
CREATED:20211213T003633Z
LAST-MODIFIED:20221116T055616Z
UID:10000054-1668067200-1668099600@nationaltraumacentre.gov.au
SUMMARY:ARC Advanced Life Support (ALS) Level 2 Recertification
DESCRIPTION:Registration closes: 9 Sep 22\n\n\n\nNumber of participants: Min 12 / Max 18 \n\n\n\nThis is a 1-day Australian Resuscitation Council (ARC) Advanced Life Support (ALS) course for registered health professionals requiring reaccreditation for ALS Level 2 and who hold a current ARC ALS 2 Certificate. \n\n\n\nNumber of positions: 18 \n\n\n\n\n\n\n\nPre-Requisite \n\n\n\nApplicants are required to forward a copy of their current ARC ALS 2 card or a copy of their certificate to Admin.NCCTRC@ nt.gov.au at the time of registration.   \n\n\n\nReceipt of certificate or ARC card copies is mandatory for a position in this course.  \n\n\n\nParticipants whose ALS 2 provider status has expired will be required to complete the 2 day ALS 2 course. \n\n\n\n\n\n\n\nCourse Cost: \n\n\n\nNorthern Territory Government Staff Members: $240.00 (pp. incl. GST) \n\n\n\nNon-Northern Territory Government Staff: $470.00 (pp incl.GST) \n\n\n\n(Prices and course availability are subject to change) \n\n\n\nRegistrations close 9 September  2022
URL:https://nationaltraumacentre.gov.au/calendar/advanced-life-support-level-2-recertification-2/
LOCATION:NCCTRC Training Facility – RDH\, 8th floor\, 105 Rocklands Dr\, Tiwi\, NT\, 0810\, Australia
CATEGORIES:Resuscitation
ATTACH;FMTTYPE=image/jpeg:https://nationaltraumacentre.gov.au/wp-content/uploads/2021/12/NCCTRC_AUSMAT_03-scaled-e1639377286993.jpeg
ORGANIZER;CN="NCCTRC Education":MAILTO:education.ncctrc@nt.gov.au
END:VEVENT
BEGIN:VEVENT
DTSTART;TZID=Australia/Darwin:20220915T080000
DTEND;TZID=Australia/Darwin:20220916T170000
DTSTAMP:20260421T182104
CREATED:20211213T002340Z
LAST-MODIFIED:20220905T225932Z
UID:10000051-1663228800-1663347600@nationaltraumacentre.gov.au
SUMMARY:ARC Advanced Life Support (ALS) Level 2
DESCRIPTION:Registration closes: 21 Jul 22\n\n\n\nNumber of participants: Min 12 / Max 18 \n\n\n\n\n\n\n\nThis two day\, Australian Resuscitation Council (ARC) accredited course\, aims to teach theory & practical skills to effectively manage cardiopulmonary arrests\, peri-assist situations & special circumstances\, whilst following the latest ARC guidelines. \n\n\n\nCourse content includes: \n\n\n\nRecognition\, assessment & management of life threatening arrhythmiasDefibrillationBasic & advanced airway management including Laryngeal Mask Airway (LMA) insertionLegal & ethical issues in resuscitation\n\n\n\n\n\n\n\nPre-requisite: \n\n\n\nCurrent Basic Life Support competent (evidence to be provided). \n\n\n\nOn succssful completion\, the participant receives a certificate valid for 4 years however it is an ARC recommendation that skills are updated at least annually. \n\n\n\n\n\n\n\nSuitable Participants: \n\n\n\nHealth professionals working within emergency departments\, intensive care\, high dependency\, coronary care\, operating theatres and retrieval\, and is required to lead a resuscitation team. Appropriate participants include Doctors\, Intensive Care Paramedics and Nurses. \n\n\n\n\n\n\n\nCourse Cost: \n\n\n\nNorthern Territory Government staff members: $500 \n\n\n\nnon Northern Territory Government staff: $800 \n\n\n\n[prices and course availability are subject to change]
URL:https://nationaltraumacentre.gov.au/calendar/arc-advanced-life-support-level-2-2/
LOCATION:NCCTRC Training Facility – RDH\, 8th floor\, 105 Rocklands Dr\, Tiwi\, NT\, 0810\, Australia
CATEGORIES:Resuscitation
ATTACH;FMTTYPE=image/jpeg:https://nationaltraumacentre.gov.au/wp-content/uploads/2021/12/NCCTRC_AUSMAT_02-scaled-e1639377107676.jpeg
ORGANIZER;CN="NCCTRC Education":MAILTO:education.ncctrc@nt.gov.au
END:VEVENT
BEGIN:VEVENT
DTSTART;TZID=Australia/Darwin:20220602T080000
DTEND;TZID=Australia/Darwin:20220603T170000
DTSTAMP:20260421T182104
CREATED:20211210T040052Z
LAST-MODIFIED:20220518T224716Z
UID:10000045-1654156800-1654275600@nationaltraumacentre.gov.au
SUMMARY:ARC Advanced Life Support (ALS) Level 2
DESCRIPTION:Open for registration\n\n\n\nRegistration closes: 7 Apr 22\n\n\n\nNumber of participants: Min 12 / Max 18 \n\n\n\n\n\n\n\nThis two day\, Australian Resuscitation Council (ARC) accredited course\, aims to teach theory & practical skills to effectively manage cardiopulmonary arrests\, peri-assist situations & special circumstances\, whilst following the latest ARC guidelines. \n\n\n\nCourse content includes: \n\n\n\nRecognition\, assessment & management of life threatening arrhythmiasDefibrillationBasic & advanced airway management including Laryngeal Mask Airway (LMA) insertionLegal & ethical issues in resuscitation\n\n\n\n\n\n\n\nPre-requisite: \n\n\n\nCurrent Basic Life Support competent (evidence to be provided). \n\n\n\nOn succssful completion\, the participant receives a certificate valid for 4 years however it is an ARC recommendation that skills are updated at least annually. \n\n\n\n\n\n\n\nSuitable Participants: \n\n\n\nHealth professionals working within emergency departments\, intensive care\, high dependency\, coronary care\, operating theatres and retrieval\, and is required to lead a resuscitation team. Appropriate participants include Doctors\, Intensive Care Paramedics and Nurses. \n\n\n\n\n\n\n\nCourse Cost: \n\n\n\nNorthern Territory Government staff members: $500 \n\n\n\nnon Northern Territory Government staff: $800 \n\n\n\n[prices and course availability are subject to change]
URL:https://nationaltraumacentre.gov.au/calendar/arc-advanced-life-support-level-2/
LOCATION:NCCTRC Training Facility – RDH\, 8th floor\, 105 Rocklands Dr\, Tiwi\, NT\, 0810\, Australia
CATEGORIES:Resuscitation
ATTACH;FMTTYPE=image/jpeg:https://nationaltraumacentre.gov.au/wp-content/uploads/2021/12/NCCTRC_AUSMAT_02-scaled-e1639377107676.jpeg
ORGANIZER;CN="NCCTRC Education":MAILTO:education.ncctrc@nt.gov.au
END:VEVENT
BEGIN:VEVENT
DTSTART;TZID=Australia/Darwin:20220421T074500
DTEND;TZID=Australia/Darwin:20220422T180000
DTSTAMP:20260421T182104
CREATED:20220111T231322Z
LAST-MODIFIED:20220307T031416Z
UID:10000060-1650527100-1650650400@nationaltraumacentre.gov.au
SUMMARY:ARC Advanced Life Support (ALS) Level 2
DESCRIPTION:Registration closes:  4 March   2022\n\n\n\nNumber of participants: Min 12 / Max 18 \n\n\n\n\n\n\n\nThis two day\, Australian Resuscitation Council (ARC) accredited course\, aims to teach theory & practical skills to effectively manage cardiopulmonary arrests\, peri-assist situations & special circumstances\, whilst following the latest ARC guidelines. \n\n\n\nCourse content includes: \n\n\n\nRecognition\, assessment & management of life threatening arrhythmiasDefibrillationBasic & advanced airway management including Laryngeal Mask Airway (LMA) insertionLegal & ethical issues in resuscitation\n\n\n\n\n\n\n\nPre-requisite: \n\n\n\nCurrent Basic Life Support competent (evidence to be provided). \n\n\n\nOn succssful completion\, the participant receives a certificate valid for 4 years however it is an ARC recommendation that skills are updated at least annually. \n\n\n\n\n\n\n\nSuitable Participants: \n\n\n\nHealth professionals working within emergency departments\, intensive care\, high dependency\, coronary care\, operating theatres and retrieval\, and is required to lead a resuscitation team. Appropriate participants include Doctors\, Intensive Care Paramedics and Nurses. \n\n\n\n\n\n\n\nCourse Cost: \n\n\n\nNorthern Territory Government staff members: $500 \n\n\n\nnon Northern Territory Government staff: $800 \n\n\n\n[prices and course availability are subject to change]
URL:https://nationaltraumacentre.gov.au/calendar/arc-advanced-life-support-als-level-2/
LOCATION:Novotel\, 1 Sir Brearley Dr\, Eaton\, NT\, 0812\, Australia
CATEGORIES:Resuscitation
ATTACH;FMTTYPE=image/jpeg:https://nationaltraumacentre.gov.au/wp-content/uploads/2021/12/NCCTRC_AUSMAT_02-scaled-e1639377107676.jpeg
ORGANIZER;CN="NCCTRC Education":MAILTO:education.ncctrc@nt.gov.au
END:VEVENT
BEGIN:VEVENT
DTSTART;TZID=Australia/Darwin:20220324T080000
DTEND;TZID=Australia/Darwin:20220324T170000
DTSTAMP:20260421T182104
CREATED:20211210T015344Z
LAST-MODIFIED:20220427T002203Z
UID:10000043-1648108800-1648141200@nationaltraumacentre.gov.au
SUMMARY:ARC Advanced Life Support (ALS) Level 2 Recertification
DESCRIPTION:Registration closes: 27 Jan 22\n\n\n\nNumber of participants: Max 18 \n\n\n\n\n\n\n\nThis is a 1-day Australian Resuscitation Council (ARC) Advanced Life Support (ALS) course for registered health professionals requiring reaccreditation for ALS Level 2 and who hold a current ARC ALS 2 Certificate. \n\n\n\n\n\n\n\n\n\n\n\nPre-Requisite: \n\n\n\nApplicants are required to forward a copy of their current ARC ALS 2 card or a copy of their certificate to Admin.NCCTRC@ nt.gov.au at the time of registration.   \n\n\n\nReceipt of certificate or ARC card copies is mandatory for a position in this course.  \n\n\n\nParticipants whose ALS 2 provider status has expired will be required to complete the 2 day ALS 2 course. \n\n\n\n\n\n\n\nCourse Cost: \n\n\n\nNorthern Territory Government Staff Members: $240.00 (pp. incl. GST) \n\n\n\nNon-Northern Territory Government Staff: $470.00 (pp incl.GST) \n\n\n\n(Prices and course availability are subject to change)
URL:https://nationaltraumacentre.gov.au/calendar/advanced-life-support-level-2-recertification/
LOCATION:NCCTRC Training Facility – RDH\, 8th floor\, 105 Rocklands Dr\, Tiwi\, NT\, 0810\, Australia
CATEGORIES:Resuscitation
ATTACH;FMTTYPE=image/jpeg:https://nationaltraumacentre.gov.au/wp-content/uploads/2021/12/NCCTRC_AUSMAT_03-scaled-e1639377286993.jpeg
ORGANIZER;CN="NCCTRC Education":MAILTO:education.ncctrc@nt.gov.au
END:VEVENT
END:VCALENDAR