BEGIN:VCALENDAR
VERSION:2.0
PRODID:-//National Critical Care and Trauma Response Centre - ECPv6.15.20//NONSGML v1.0//EN
CALSCALE:GREGORIAN
METHOD:PUBLISH
X-WR-CALNAME:National Critical Care and Trauma Response Centre
X-ORIGINAL-URL:https://nationaltraumacentre.gov.au
X-WR-CALDESC:Events for National Critical Care and Trauma Response Centre
REFRESH-INTERVAL;VALUE=DURATION:PT1H
X-Robots-Tag:noindex
X-PUBLISHED-TTL:PT1H
BEGIN:VTIMEZONE
TZID:Australia/Darwin
BEGIN:STANDARD
TZOFFSETFROM:+0930
TZOFFSETTO:+0930
TZNAME:ACST
DTSTART:20250101T000000
END:STANDARD
END:VTIMEZONE
BEGIN:VEVENT
DTSTART;TZID=Australia/Darwin:20260303T080000
DTEND;TZID=Australia/Darwin:20260304T170000
DTSTAMP:20260425T013709
CREATED:20251021T003440Z
LAST-MODIFIED:20260225T225207Z
UID:10000095-1772524800-1772643600@nationaltraumacentre.gov.au
SUMMARY:HMIMMS Advanced
DESCRIPTION:Hospital Major Incident Medical Management and Support \n\n\n\nRegistration closes: 23 January 2026 \n\n\n\nNumber of participants: Min 12 / Max 24 \n\n\n\nLocation: NCCTRC Bees Creek Training Facility \n\n\n\nWhilst traditional MIMMS teaches a structured approach to responding to a mass casualty at the incident site\, Hospital MIMMS (HMIMMS) focusses on the delivery of care in the hospital environment and is aimed at the hospital staff responsible for planning\, training and managing a major incident. \n\n\n\nThis 2-day course explores the priorities and responsibilities of hospital clinical and administrative responders facing a mass casualty incident. An all-hazard approach is adopted while special incidents such as burns\, and CBRN are also discussed. The concept of the scalable hierarchy is introduced as a fundamental concept in the hospital-based response. \n\n\n\nThe course comprises of online pre-course modular components\, lectures\, workshops and novel interactive tabletop exercises\, simulating the challenges facing responders during the phases of reception\, definitive care and recovery. \n\n\n\nCourse objectives include: \n\n\n\n\nType and incidence of major incidents and the need for an effective response and management planning.\n\n\n\nUnderstand and able to implement and follow the seven principles encapsulated in the CSCATTT approach to successfully managing a major incident.\n\n\n\nUnderstand the need for major incident training\, focusing on those aspects of the plan which do not occur in day-to-day practice\, i.e.\, command\, control\, communication and mass casualty triage.\n\n\n\nAble to deliver the medical support needed for major incidents in the hospital setting using the concept of collapsible hierarchies.\n\n\n\n\nSuitable Participants:  \n\n\n\nThis course is aimed at both clinical and non-clinical personnel who would be involved in managing a major incident in the hospital. \n\n\n\nCourse Cost: \n\n\n\nNorthern Territory Government staff (plus Defence and Emergency services): $400 [pp incl. GST] \n\n\n\nNon-Northern Territory Government personnel: $600 [pp incl. GST] \n\n\n\nPrices and course availability are subject to change
URL:https://nationaltraumacentre.gov.au/calendar/hmimms-advanced-5/
LOCATION:NCCTRC Bees Creek Training Facility\, 175 Bees Creek Rd\, Bees Creek\, NT\, Australia
CATEGORIES:MIMMS
ATTACH;FMTTYPE=image/jpeg:https://nationaltraumacentre.gov.au/wp-content/uploads/2023/07/1O3A2398-scaled.jpg
END:VEVENT
BEGIN:VEVENT
DTSTART;TZID=Australia/Darwin:20260310T080000
DTEND;TZID=Australia/Darwin:20260310T163000
DTSTAMP:20260425T013709
CREATED:20251104T054117Z
LAST-MODIFIED:20260122T000935Z
UID:10000099-1773129600-1773160200@nationaltraumacentre.gov.au
SUMMARY:Remote Area Trauma Education (RATE)
DESCRIPTION:*Registration is now closed. * \n\n\n\n\n\n\n\n\n\nThis one-day course is designed to provide remote area health professionals with the theoretical knowledge and practical skills to be able to safely assess and manage trauma patients within the remote health centre until the arrival of the retrieval team. \n\n\n\nRATE is provided in remote health centres with an emphasis on practical skills\, small interactive groups and relevant scenarios. \n\n\n\nBy the end of the course participants will be able to: \n\n\n\n\nDescribe the initial assessment of the trauma patient in a remote setting.\n\n\n\nDemonstrate the assessment and management of a compromised airway.\n\n\n\nDemonstrate the assessment and management of chest / trauma injuries.\n\n\n\nDemonstrate the assessment and management of spinal injuries and haemorrhage control.\n\n\n\nDemonstrate how to give an effective clinical handover.\n\n\n\nDescribe the requirements for retrieval and transport of the remote trauma patient.\n\n\n\nTrauma Scenario \n\nAn opportunity for participants to demonstrate and highlight key learning points of the day\n\nPrimary survey\n\n\n\nSecondary survey\n\n\n\nClinical handover\n\n\n\nPackaging and transporting\n\n\n\n\n\n\n\n\n\n\n\n\n*REGISTER AN EXPRESSION OF INTEREST – APPLICATIONS ARE SUBJECT TO REVIEW\n\n\n\n\n\n\n\nSuitable Participants: \n\n\n\nIt is aimed at remote health personnel particularly General Practitioner (GPS)\, Remote Medical Practitioners (RMPs) Remote Area Nurses (RANs) and Aboriginal and Torres Strait Islander Health Practitioners (ATSIHPs). \n\n\n\n\n\n\n\nCourse Cost: \n\n\n\nSponsored by the NCCTRC \n\n\n\n[Prices and Course availability are subject to change]
URL:https://nationaltraumacentre.gov.au/calendar/remote-area-trauma-education-rate-3/
LOCATION:Royal Darwin Hospital\, Rocklands Drive\, Darwin\, NT\, 0811\, Australia
CATEGORIES:Trauma Training
ATTACH;FMTTYPE=image/jpeg:https://nationaltraumacentre.gov.au/wp-content/uploads/2024/12/1O3A9277-scaled.jpg
END:VEVENT
END:VCALENDAR