BEGIN:VCALENDAR
VERSION:2.0
PRODID:-//National Critical Care and Trauma Response Centre - ECPv6.15.20//NONSGML v1.0//EN
CALSCALE:GREGORIAN
METHOD:PUBLISH
X-WR-CALNAME:National Critical Care and Trauma Response Centre
X-ORIGINAL-URL:https://nationaltraumacentre.gov.au
X-WR-CALDESC:Events for National Critical Care and Trauma Response Centre
REFRESH-INTERVAL;VALUE=DURATION:PT1H
X-Robots-Tag:noindex
X-PUBLISHED-TTL:PT1H
BEGIN:VTIMEZONE
TZID:Australia/Darwin
BEGIN:STANDARD
TZOFFSETFROM:+0930
TZOFFSETTO:+0930
TZNAME:ACST
DTSTART:20250101T000000
END:STANDARD
END:VTIMEZONE
BEGIN:VEVENT
DTSTART;TZID=Australia/Darwin:20260506T080000
DTEND;TZID=Australia/Darwin:20260507T170000
DTSTAMP:20260425T014133
CREATED:20251021T004328Z
LAST-MODIFIED:20260316T225347Z
UID:10000096-1778054400-1778173200@nationaltraumacentre.gov.au
SUMMARY:MIMMS Advanced
DESCRIPTION:Major Incident Medical Management and Support \n\n\n\nRegistration closes: 20 March 2026 \n\n\n\nNumber of participants: Min 12 / Max 24 \n\n\n\nLocation: NCCTRC Bees Creek Training Facility \n\n\n\nThe 2-day MIMMS course provides participants with a structured approach to respond to a mass casualty incident at the scene\, with the focus on the role of the team member. \n\n\n\nThe content includes command safety\, communication\, assessment\, triage\, treatment and transport\, through: \n\n\n\n\nStructured lectures\n\n\n\nA series of table-top exercises\n\n\n\nPractical exercises in radio communication\n\n\n\nCasualty simulation triage exercises\n\n\n\nWorkshops\n\n\n\nField exercises for command training involving airport and large crowd incidents (sports or similar)\n\n\n\n\n \n\n\n\nSuitable Participants: \n\n\n\nThose in senior positions likely to take a coordination or command role or those involved with staff development/training. A manual and materials are supplied as part of this course. \n\n\n\nCourse Cost: \n\n\n\nNorthern Territory Government staff (includes Defence and Emergency Services): $600 [pp incl. GST] \n\n\n\nNon-Northern Territory Government personnel: $950 [pp incl. GST] \n\n\n\nPrices and course availability are subject to change
URL:https://nationaltraumacentre.gov.au/calendar/mimms-advanced-11/
LOCATION:NCCTRC Bees Creek Training Facility\, 175 Bees Creek Rd\, Bees Creek\, NT\, Australia
CATEGORIES:MIMMS
ATTACH;FMTTYPE=image/jpeg:https://nationaltraumacentre.gov.au/wp-content/uploads/2023/07/1O3A2070-scaled.jpg
ORGANIZER;CN="NCCTRC Education":MAILTO:education.ncctrc@nt.gov.au
END:VEVENT
BEGIN:VEVENT
DTSTART;TZID=Australia/Darwin:20260508T081500
DTEND;TZID=Australia/Darwin:20260508T163000
DTSTAMP:20260425T014133
CREATED:20260216T000623Z
LAST-MODIFIED:20260416T234936Z
UID:10000110-1778228100-1778257800@nationaltraumacentre.gov.au
SUMMARY:Australian Trauma Team Training (ATTT)
DESCRIPTION:Session Cancelled \n\n\n\n\n\n\n\n\n\nNumber of participants: Max 12\n\n\n\n\n\n\n\nLocation: Katherine \n\n\n\nCriteria of Attendance \n\n\n\nThis course is limited to Emergency Nurses and Doctors\, Surgical Registrar’s\, Intensive Care Registrar’s\, Anaesthetic Registrar’s and whose current role is to work in the Trauma Call resuscitation team. \n\n\n\nObjectives of the course \n\n\n\nA multi-professional\, multidisciplinary simulation-based course that addresses teamwork skills and clinical practice relevant to trauma management. \n\n\n\nExpose trauma teams to simulated cases of serious trauma and provide them with an opportunity to rehearse early management of these cases focusing on their response andinteraction as a team. \n\n\n\nInstruct teams in the specific behavioural skills and attitudes relevant to effective trauma teamwork including;  \n\n\n\nTeam leadership/fellowship\, principals of ‘crisis’ management\, team communication\, negotiation and conflict resolution and safety culture. \n\n\n\nRevise general principals of trauma management according to best practices in the NT. \n\n\n\nRevise specific management of key trauma conditions such as head injury\, major haemorrhage and multi trauma. \n\n\n\nThis course is aimed at Emergency Nurses and Doctors\, Surgical Registrar’s\, Intensive Care Registrar’s\, Anaesthetic Registrar’s and whose current role is to work in the Trauma Call resuscitation team. \n\n\n\n\n\n\n\nCourse Cost: \n\n\n\nNorthern Territory Government staff members: $115.00 (pp incl.GST) \n\n\n\nNon-Northern Territory Government staff: $130.00 (pp incl.GST) \n\n\n\n\n\n\n\n\n\n\n\n\n\n\n\n\n\n\n	\n	\n	\n	\n    \n\n	    \n    \n        Registrations are closed for this event
URL:https://nationaltraumacentre.gov.au/calendar/australian-trauma-team-training-attt-9/
LOCATION:Katherine Hospital\, Katherine Hospital\, Katherine\, 0850\, Australia
CATEGORIES:Trauma Training
ATTACH;FMTTYPE=image/jpeg:https://nationaltraumacentre.gov.au/wp-content/uploads/2021/12/NCCTRC_AUSMAT_03-scaled-e1639377286993-1.jpeg
END:VEVENT
BEGIN:VEVENT
DTSTART;TZID=Australia/Darwin:20260514T080000
DTEND;TZID=Australia/Darwin:20260515T170000
DTSTAMP:20260425T014133
CREATED:20251120T010901Z
LAST-MODIFIED:20260414T014817Z
UID:10000100-1778745600-1778864400@nationaltraumacentre.gov.au
SUMMARY:Remote Pre-Hospital Trauma and Disaster Course (RPHTDC)
DESCRIPTION:Registrations Closes: Friday 1st May \n\n\n\n\n\n \n\n\n\n\n\n\n\nNumber of participants: Min 12 / Max 24 \n\n\n\nDay 1: 8am – 5pm  \n\n\n\nDay 2: 8am – 5pm \n\n\n\nLocation: Bees Creek Training Facility \n\n\n\nThis two-day course is for personnel who attend pre-hospital incidents. The course provides participants with the theoretical knowledge and practical skills to safely and effectively manage trauma or disaster patients in the pre-hospital environment. \n\n\n\n \n\n\n\nAt the end of the course participants should be able to: \n\n\n\n\nDemonstrate the triage sort and sieve\, treatment and transport principles used within mass casualty incidents\n\n\n\nDemonstrate the assessment and effective management of a vehicle crash scene\n\n\n\nDemonstrate the assessment and effective management of trapped casualties\n\n\n\nDemonstrate the safe extrication of trapped casualties\n\n\n\nDiscuss the importance of and demonstrate working effectively within a team setting\n\n\n\n\n\n\n\n\nSuitable Participants: \n\n\n\nRemote Area Nurses\, Remote Medical Practitioners\, Medical and Nursing professionals\, Retrieval Specialists\, Aboriginal and Torres Strait Islander Health Practitioners (ATSIHPs)\, Emergency Services\, Mine Rescue and Australian Defence Force health personnel. \n\n\n\nCourse Cost: \n\n\n\nNorthern Territory Government staff members: $300.00 [pp incl. GST] \n\n\n\nNon Northern Territory Government staff: $600.00 [pp incl. GST] \n\n\n\n[prices and course availability are subject to change] \n\n\n\n\n\n\n\n*REGISTER AN EXPRESSION OF INTEREST\n\n\n\n\n\n\n\nParticipant Testimonials \n\n\n\n“Being more knowledgeable if I was to come across an accident now. Having come across an accident recently I feel I would deal with it much better and definitely more safely!!” \n\n\n\n“The practical exercise around MVA extrication and safety was a highlight.” \n\n\n\n“The days were full and informative. Very enjoyable. A great learning environment facilitated by a great team.” \n\n\n\n\n\n\n\n\n\n\n\n\n\n\n	\n	\n	\n	\n    \n\n	    \n    \n        Registrations are closed for this event
URL:https://nationaltraumacentre.gov.au/calendar/remote-pre-hospital-trauma-and-disaster-course-rphtdc-6/
LOCATION:NCCTRC Bees Creek Training Facility\, 175 Bees Creek Rd\, Bees Creek\, NT\, Australia
CATEGORIES:Trauma Training
ATTACH;FMTTYPE=image/jpeg:https://nationaltraumacentre.gov.au/wp-content/uploads/2021/11/NCCTRC_AUSMAT_TRAUMA_TRAINING_04-e1639374059353.jpeg
END:VEVENT
BEGIN:VEVENT
DTSTART;TZID=Australia/Darwin:20260529T080000
DTEND;TZID=Australia/Darwin:20260529T163000
DTSTAMP:20260425T014133
CREATED:20251120T013400Z
LAST-MODIFIED:20260413T050629Z
UID:10000105-1780041600-1780072200@nationaltraumacentre.gov.au
SUMMARY:Remote Area Trauma Education (RATE)
DESCRIPTION:Registrations Closes : Monday – 27th April 2026 \n\n\n\n\n\nThis one-day course is designed to provide remote area health professionals with the theoretical knowledge and practical skills to be able to safely assess and manage trauma patients within the remote health centre until the arrival of the retrieval team. \n\n\n\nRATE is provided in remote health centres with an emphasis on practical skills\, small interactive groups and relevant scenarios. \n\n\n\nBy the end of the course participants will be able to: \n\n\n\n\nDescribe the initial assessment of the trauma patient in a remote setting.\n\n\n\nDemonstrate the assessment and management of a compromised airway.\n\n\n\nDemonstrate the assessment and management of chest / trauma injuries.\n\n\n\nDemonstrate the assessment and management of spinal injuries and haemorrhage control.\n\n\n\nDemonstrate how to give an effective clinical handover.\n\n\n\nDescribe the requirements for retrieval and transport of the remote trauma patient.\n\n\n\nTrauma Scenario\n\nAn opportunity for participants to demonstrate and highlight key learning points of the day\n\nPrimary survey\n\n\n\nSecondary survey\n\n\n\nClinical handover\n\n\n\nPackaging and transporting\n\n\n\n\n\n\n\n\n\n\n\n\n*REGISTER AN EXPRESSION OF INTEREST – APPLICATION ARE SUBJECT TO REVIEW\n\n\n\n\n\n\n\nSuitable Participants: \n\n\n\nIt is aimed at remote health personnel particularly General Practitioners (GPs)\, Remote Medical Practitioners (RMPs) Remote Area Nurses (RANs) and Aboriginal and Torres Strait Islander Health Practitioners (ATSIHPs). \n\n\n\nCourse Cost: \n\n\n\nSponsored by the NCCTRC. \n\n\n\n[prices and course availability are subject to change] \n\n\n\n\n\n\n\n\n\n\n\n\n\n\n	\n	\n	\n	\n    \n\n	    \n    \n        Registrations are closed for this event
URL:https://nationaltraumacentre.gov.au/calendar/remote-area-trauma-education-rate-4/
LOCATION:Katherine\, Katherine\, NT\, Australia
CATEGORIES:Trauma Training
ATTACH;FMTTYPE=image/jpeg:https://nationaltraumacentre.gov.au/wp-content/uploads/2024/12/1O3A9277-scaled.jpg
END:VEVENT
END:VCALENDAR