BEGIN:VCALENDAR
VERSION:2.0
PRODID:-//National Critical Care and Trauma Response Centre - ECPv6.15.20//NONSGML v1.0//EN
CALSCALE:GREGORIAN
METHOD:PUBLISH
X-WR-CALNAME:National Critical Care and Trauma Response Centre
X-ORIGINAL-URL:https://nationaltraumacentre.gov.au
X-WR-CALDESC:Events for National Critical Care and Trauma Response Centre
REFRESH-INTERVAL;VALUE=DURATION:PT1H
X-Robots-Tag:noindex
X-PUBLISHED-TTL:PT1H
BEGIN:VTIMEZONE
TZID:Australia/Darwin
BEGIN:STANDARD
TZOFFSETFROM:+0930
TZOFFSETTO:+0930
TZNAME:ACST
DTSTART:20250101T000000
END:STANDARD
END:VTIMEZONE
BEGIN:VEVENT
DTSTART;TZID=Australia/Darwin:20260410T081500
DTEND;TZID=Australia/Darwin:20260410T163000
DTSTAMP:20260425T030328
CREATED:20260112T054015Z
LAST-MODIFIED:20260401T015733Z
UID:10000106-1775808900-1775838600@nationaltraumacentre.gov.au
SUMMARY:Australian Trauma Team Training (ATTT)
DESCRIPTION:Registrations for this course are now closed \n\n\n\nNumber of participants: Max 12\n\n\n\n\n\n\n\nLocation: Royal Darwin Hospital \n\n\n\nCriteria of Attendance \n\n\n\nThis course is limited to Emergency Nurses and Doctors\, Surgical Registrar’s\, Intensive Care Registrar’s\, Anaesthetic Registrar’s and whose current role is to work in their Trauma Call resuscitation team. \n\n\n\nObjectives of the course \n\n\n\nA multi-professional\, multidisciplinary simulation-based course that addresses teamwork skills and clinical practice relevant to trauma management. \n\n\n\nExpose trauma teams to simulated cases of serious trauma and provide them with an opportunity to rehearse early management of these cases focusing on their response andinteraction as a team. \n\n\n\nInstruct teams in the specific behavioural skills and attitudes relevant to effective trauma teamwork including;  \n\n\n\nTeam leadership/fellowship\, principals of ‘crisis’ management\, team communication\, negotiation and conflict resolution and safety culture. \n\n\n\nRevise general principals of trauma management according to best practices in the NT. \n\n\n\nRevise specific management of key trauma conditions such as head injury\, major haemorrhage and multi trauma. \n\n\n\nThis course is aimed at Emergency Nurses and Doctors\, Surgical Registrar’s\, Intensive Care Registrar’s\, Anaesthetic Registrar’s and whose current role is to work in the Trauma Call resuscitation team. \n\n\n\n\n\n\n\nCourse Cost: \n\n\n\nNorthern Territory Government staff members: $115.00 (pp incl.GST) \n\n\n\nNon-Northern Territory Government staff: $130.00 (pp incl.GST) \n\n\n\n\n\n\n\n\n\n\n\n\n\n\n	\n	\n	\n	\n    \n\n	    \n    \n        Registrations are closed for this event
URL:https://nationaltraumacentre.gov.au/calendar/australian-trauma-team-training-attt-8/
LOCATION:Royal Darwin Hospital\, Rocklands Drive\, Darwin\, NT\, 0811\, Australia
CATEGORIES:Trauma Training
ATTACH;FMTTYPE=image/jpeg:https://nationaltraumacentre.gov.au/wp-content/uploads/2021/12/NCCTRC_AUSMAT_03-scaled-e1639377286993-1.jpeg
END:VEVENT
END:VCALENDAR